Workbook

Sheet Conjunto de datos
A1: Cuenta | B1: Categoria | C1: Descripcion | D1: Asignado | E1: Modificado | F1: Codificado | G1: Monto certificado | H1: Comprometido | I1: Devengado | J1: Pagado | K1: Saldo por comprometer | L1: Saldo por devengar | M1: Saldo por pagar | N1: Porcentaje de ejecucion
A2: 510105 | B2: GASTOS EN PERSONAL | C2: =VLOOKUP(A2,Cat!$C:$D,2,FALSE) -> Remuneraciones Unificadas | D2: 1685889.9 | E2: -103797.94 | F2: 1582092 | G2: 1119095.3 | H2: 1119095.3 | I2: 1119095.3 | J2: 1093942.3 | K2: =+F2-H2 -> 462996.66 | L2: =+F2-H2 -> 462996.66 | M2: =+I2-J2 -> 25153.01 | N2: =+I2/F2 -> 0.70735161
A3: 510203 | B3: GASTOS EN PERSONAL | C3: =VLOOKUP(A3,Cat!$C:$D,2,FALSE) -> Decimo Tercer Sueldo | D3: 143533.25 | E3: 1.4551915e-11 | F3: 143533.25 | G3: 93471.78 | H3: 93471.78 | I3: 93471.78 | J3: 31278.78 | K3: =+F3-H3 -> 50061.47 | L3: =+F3-H3 -> 50061.47 | M3: =+I3-J3 -> 62193 | N3: =+I3/F3 -> 0.6512204
A4: 510204 | B4: GASTOS EN PERSONAL | C4: =VLOOKUP(A4,Cat!$C:$D,2,FALSE) -> Decimo Cuarto Sueldo | D4: 46469.11 | E4: 0 | F4: 46469.11 | G4: 28348.87 | H4: 28346.79 | I4: 28346.79 | J4: 22530.64 | K4: =+F4-H4 -> 18122.32 | L4: =+F4-H4 -> 18122.32 | M4: =+I4-J4 -> 5816.15 | N4: =+I4/F4 -> 0.61001362
A5: 510509 | B5: GASTOS EN PERSONAL | C5: =VLOOKUP(A5,Cat!$C:$D,2,FALSE) -> Horas Extraordinarias y Suplementarias | D5: 2171.87 | E5: 4000 | F5: 6171.87 | G5: 2508.26 | H5: 2508.26 | I5: 2508.26 | J5: 2508.26 | K5: =+F5-H5 -> 3663.61 | L5: =+F5-H5 -> 3663.61 | M5: =+I5-J5 -> 0 | N5: =+I5/F5 -> 0.40640195
A6: 510512 | B6: GASTOS EN PERSONAL | C6: =VLOOKUP(A6,Cat!$C:$D,2,FALSE) -> Subrogacion | D6: 30365.17 | E6: 37326.09 | F6: 67691.26 | G6: 40836.77 | H6: 40836.77 | I6: 40836.77 | J6: 40836.77 | K6: =+F6-H6 -> 26854.49 | L6: =+F6-H6 -> 26854.49 | M6: =+I6-J6 -> 0 | N6: =+I6/F6 -> 0.6032798
A7: 510513 | B7: GASTOS EN PERSONAL | C7: =VLOOKUP(A7,Cat!$C:$D,2,FALSE) -> Encargos | D7: 15533.88 | E7: 47471.85 | F7: 63005.73 | G7: 41740.38 | H7: 41740.38 | I7: 41740.38 | J7: 41740.38 | K7: =+F7-H7 -> 21265.35 | L7: =+F7-H7 -> 21265.35 | M7: =+I7-J7 -> 0 | N7: =+I7/F7 -> 0.66248546
A8: 510601 | B8: GASTOS EN PERSONAL | C8: =VLOOKUP(A8,Cat!$C:$D,2,FALSE) -> Aporte Patronal | D8: 168072.55 | E8: 1.4551915e-11 | F8: 168072.55 | G8: 116534.57 | H8: 116534.57 | I8: 116534.57 | J8: 105935.56 | K8: =+F8-H8 -> 51537.98 | L8: =+F8-H8 -> 51537.98 | M8: =+I8-J8 -> 10599.01 | N8: =+I8/F8 -> 0.69335873
A9: 510602 | B9: GASTOS EN PERSONAL | C9: =VLOOKUP(A9,Cat!$C:$D,2,FALSE) -> Fondo de Reserva | D9: 82006.91 | E9: 15000 | F9: 97006.91 | G9: 43813.95 | H9: 43813.95 | I9: 43813.95 | J9: 43813.95 | K9: =+F9-H9 -> 53192.96 | L9: =+F9-H9 -> 53192.96 | M9: =+I9-J9 -> 0 | N9: =+I9/F9 -> 0.45165803
A10: 510703 | B10: GASTOS EN PERSONAL | C10: =VLOOKUP(A10,Cat!$C:$D,2,FALSE) -> Despido Intempestivo | D10: 37904 | E10: 0 | F10: 37904 | G10: 0 | H10: 0 | I10: 0 | J10: 0 | K10: =+F10-H10 -> 37904 | L10: =+F10-H10 -> 37904 | M10: =+I10-J10 -> 0 | N10: =+I10/F10 -> 0
A11: 510704 | B11: GASTOS EN PERSONAL | C11: =VLOOKUP(A11,Cat!$C:$D,2,FALSE) -> Compensacion por Desahucio | D11: 7497 | E11: 0 | F11: 7497 | G11: 0 | H11: 0 | I11: 0 | J11: 0 | K11: =+F11-H11 -> 7497 | L11: =+F11-H11 -> 7497 | M11: =+I11-J11 -> 0 | N11: =+I11/F11 -> 0
A12: 510707 | B12: GASTOS EN PERSONAL | C12: =VLOOKUP(A12,Cat!$C:$D,2,FALSE) -> Compensacion por Vacaciones no Gozadas por Cesacion de Funciones | D12: 98604.99 | E12: 0 | F12: 98604.99 | G12: 29346.4 | H12: 29346.4 | I12: 28256.88 | J12: 28256.88 | K12: =+F12-H12 -> 69258.59 | L12: =+F12-H12 -> 69258.59 | M12: =+I12-J12 -> 0 | N12: =+I12/F12 -> 0.28656643
A13: 530101 | B13: BIENES Y SERVICIOS DE CONSUMO | C13: =VLOOKUP(A13,Cat!$C:$D,2,FALSE) -> Agua Potable | D13: 850 | E13: -600 | F13: 250 | G13: 0 | H13: 0 | I13: 0 | J13: 0 | K13: =+F13-H13 -> 250 | L13: =+F13-H13 -> 250 | M13: =+I13-J13 -> 0 | N13: =+I13/F13 -> 0
... A24: 530246 | B24: BIENES Y SERVICIOS DE CONSUMO | C24: =VLOOKUP(A24,Cat!$C:$D,2,FALSE) -> Servicios de Identificacion- Marcacion- Autentificacion- Rastreo- Monitoreo- Seguimiento y-o Trazabilidad | D24: 414 | E24: 0 | F24: 414 | G24: 414 | H24: 414 | I24: 414 | J24: 414 | K24: =+F24-H24 -> 0 | L24: =+F24-H24 -> 0 | M24: =+I24-J24 -> 0 | N24: =+I24/F24 -> 1
A25: 530301 | B25: BIENES Y SERVICIOS DE CONSUMO | C25: =VLOOKUP(A25,Cat!$C:$D,2,FALSE) -> Pasajes al Interior | D25: 63939.55 | E25: -25609.86 | F25: 38329.69 | G25: 37213.87 | H25: 26277.93 | I25: 15502.11 | J25: 15413.96 | K25: =+F25-H25 -> 12051.76 | L25: =+F25-H25 -> 12051.76 | M25: =+I25-J25 -> 88.15 | N25: 0
A26: 530303 | B26: BIENES Y SERVICIOS DE CONSUMO | C26: =VLOOKUP(A26,Cat!$C:$D,2,FALSE) -> Viaticos y Subsistencias en el Interior | D26: 46000 | E26: -4330 | F26: 41670 | G26: 41670 | H26: 15669 | I26: 15539 | J26: 15539 | K26: =+F26-H26 -> 26001 | L26: =+F26-H26 -> 26001 | M26: =+I26-J26 -> 0 | N26: =+I26/F26 -> 0.37290617
A27: 530306 | B27: BIENES Y SERVICIOS DE CONSUMO | C27: =VLOOKUP(A27,Cat!$C:$D,2,FALSE) -> Viaticos por Gastos de Residencia | D27: 9072.48 | E27: 0 | F27: 9072.48 | G27: 9072.48 | H27: 6372 | I27: 6372 | J27: 6372 | K27: =+F27-H27 -> 2700.48 | L27: =+F27-H27 -> 2700.48 | M27: =+I27-J27 -> 0 | N27: =+I27/F27 -> 0.70234379
A28: 530401 | B28: BIENES Y SERVICIOS DE CONSUMO | C28: =VLOOKUP(A28,Cat!$C:$D,2,FALSE) -> Terrenos (Mantenimiento) | D28: 65611.9 | E28: 69435.78 | F28: 135047.68 | G28: 119351.83 | H28: 113170.15 | I28: 113169.89 | J28: 113169.89 | K28: =+F28-H28 -> 21877.53 | L28: =+F28-H28 -> 21877.53 | M28: =+I28-J28 -> 0 | N28: =+I28/F28 -> 0.83799951
A29: 530402 | B29: BIENES Y SERVICIOS DE CONSUMO | C29: =VLOOKUP(A29,Cat!$C:$D,2,FALSE) -> Edificios- Locales- Residencias y Cableado Estructurado (Instalacion - Mantenimiento y Reparacion) | D29: 55515.32 | E29: 531636.51 | F29: 587151.83 | G29: 0 | H29: 0 | I29: 0 | J29: 0 | K29: =+F29-H29 -> 587151.83 | L29: =+F29-H29 -> 587151.83 | M29: =+I29-J29 -> 0 | N29: =+I29/F29 -> 0
A30: 530403 | B30: BIENES Y SERVICIOS DE CONSUMO | C30: =VLOOKUP(A30,Cat!$C:$D,2,FALSE) -> Mobiliarios (Instalacion- Mantenimiento y Reparacion) | D30: 5131 | E30: -5131 | F30: 0 | G30: 0 | H30: 0 | I30: 0 | J30: 0 | K30: =+F30-H30 -> 0 | L30: =+F30-H30 -> 0 | M30: =+I30-J30 -> 0 | N30: 0
A31: 530404 | B31: BIENES Y SERVICIOS DE CONSUMO | C31: =VLOOKUP(A31,Cat!$C:$D,2,FALSE) -> Maquinarias y Equipos (Instalacion- Mantenimiento y Reparacion) | D31: 45 | E31: -45 | F31: 0 | G31: 0 | H31: 0 | I31: 0 | J31: 0 | K31: =+F31-H31 -> 0 | L31: =+F31-H31 -> 0 | M31: =+I31-J31 -> 0 | N31: 0
A32: 530405 | B32: BIENES Y SERVICIOS DE CONSUMO | C32: =VLOOKUP(A32,Cat!$C:$D,2,FALSE) -> Vehiculos (Servicio para Mantenimiento y Reparacion) | D32: 46636.43 | E32: -16263.25 | F32: 30373.18 | G32: 30353.18 | H32: 28509.15 | I32: 13188 | J32: 13023.96 | K32: =+F32-H32 -> 1864.03 | L32: =+F32-H32 -> 1864.03 | M32: =+I32-J32 -> 164.04 | N32: =+I32/F32 -> 0.43419886
A33: 530417 | B33: BIENES Y SERVICIOS DE CONSUMO | C33: =VLOOKUP(A33,Cat!$C:$D,2,FALSE) -> Infraestructura | D33: 13012.36 | E33: -13012.36 | F33: 0 | G33: 0 | H33: 0 | I33: 0 | J33: 0 | K33: =+F33-H33 -> 0 | L33: =+F33-H33 -> 0 | M33: =+I33-J33 -> 0 | N33: 0
A34: 530502 | B34: BIENES Y SERVICIOS DE CONSUMO | C34: =VLOOKUP(A34,Cat!$C:$D,2,FALSE) -> Edificios- Locales y Residencias- Parqueaderos- Casilleros Judiciales y Bancarios (Arrendamiento) | D34: 125309.57 | E34: 151851.55 | F34: 277161.12 | G34: 0 | H34: 0 | I34: 0 | J34: 0 | K34: =+F34-H34 -> 277161.12 | L34: =+F34-H34 -> 277161.12 | M34: =+I34-J34 -> 0 | N34: =+I34/F34 -> 0
A35: 530602 | B35: BIENES Y SERVICIOS DE CONSUMO | C35: =VLOOKUP(A35,Cat!$C:$D,2,FALSE) -> Servicio de Auditoria | D35: 12300 | E35: -5032.69 | F35: 7267.31 | G35: 4900 | H35: 0 | I35: 0 | J35: 0 | K35: =+F35-H35 -> 7267.31 | L35: =+F35-H35 -> 7267.31 | M35: =+I35-J35 -> 0 | N35: =+I35/F35 -> 0
A36: 530701 | B36: BIENES Y SERVICIOS DE CONSUMO | C36: =VLOOKUP(A36,Cat!$C:$D,2,FALSE) -> Desarrollo- Actualizacion- Asistencia Tecnica y Soporte de Sistemas Informaticos | D36: 60395 | E36: 36817.32 | F36: 97212.32 | G36: 70905.92 | H36: 70905.92 | I36: 8632.8 | J36: 8615.07 | K36: =+F36-H36 -> 26306.4 | L36: =+F36-H36 -> 26306.4 | M36: =+I36-J36 -> 17.73 | N36: =+I36/F36 -> 0.088803559
A37: 530702 | B37: BIENES Y SERVICIOS DE CONSUMO | C37: =VLOOKUP(A37,Cat!$C:$D,2,FALSE) -> Arrendamiento y Licencias de Uso de Paquetes Informaticos | D37: 193699.16 | E37: -39561.37 | F37: 154137.79 | G37: 123069.87 | H37: 122925.92 | I37: 70624.44 | J37: 70440.33 | K37: =+F37-H37 -> 31211.87 | L37: =+F37-H37 -> 31211.87 | M37: =+I37-J37 -> 184.11 | N37: =+I37/F37 -> 0.4581903
A38: 530703 | B38: BIENES Y SERVICIOS DE CONSUMO | C38: =VLOOKUP(A38,Cat!$C:$D,2,FALSE) -> Arrendamiento de Equipos Informaticos | D38: 42505.84 | E38: 19050 | F38: 61555.84 | G38: 29699.26 | H38: 28512.38 | I38: 13854.49 | J38: 10012.57 | K38: =+F38-H38 -> 33043.46 | L38: =+F38-H38 -> 33043.46 | M38: =+I38-J38 -> 3841.92 | N38: =+I38/F38 -> 0.2250719
A39: 530704 | B39: BIENES Y SERVICIOS DE CONSUMO | C39: =VLOOKUP(A39,Cat!$C:$D,2,FALSE) -> Mantenimiento y Reparacion de Equipos y Sistemas Informaticos | D39: 23000 | E39: -13777.6 | F39: 9222.4 | G39: 0 | H39: 0 | I39: 0 | J39: 0 | K39: =+F39-H39 -> 9222.4 | L39: =+F39-H39 -> 9222.4 | M39: =+I39-J39 -> 0 | N39: =+I39/F39 -> 0
A40: 530801 | B40: BIENES Y SERVICIOS DE CONSUMO | C40: =VLOOKUP(A40,Cat!$C:$D,2,FALSE) -> Alimentos y Bebidas | D40: 449.46 | E40: -349.46 | F40: 100 | G40: 0 | H40: 0 | I40: 0 | J40: 0 | K40: =+F40-H40 -> 100 | L40: =+F40-H40 -> 100 | M40: =+I40-J40 -> 0 | N40: 0
A41: 530803 | B41: BIENES Y SERVICIOS DE CONSUMO | C41: =VLOOKUP(A41,Cat!$C:$D,2,FALSE) -> Lubricantes | D41: 12440.04 | E41: 1647.58 | F41: 14087.62 | G41: 13937.62 | H41: 12116.74 | I41: 8916.49 | J41: 8898.12 | K41: =+F41-H41 -> 1970.88 | L41: =+F41-H41 -> 1970.88 | M41: =+I41-J41 -> 18.37 | N41: 0
A42: 530804 | B42: BIENES Y SERVICIOS DE CONSUMO | C42: =VLOOKUP(A42,Cat!$C:$D,2,FALSE) -> Materiales de Oficina | D42: 9173.25 | E42: -188.25 | F42: 8985 | G42: 5594.15 | H42: 2574.87 | I42: 2574.87 | J42: 2560.38 | K42: =+F42-H42 -> 6410.13 | L42: =+F42-H42 -> 6410.13 | M42: =+I42-J42 -> 14.49 | N42: 0
A43: 530805 | B43: BIENES Y SERVICIOS DE CONSUMO | C43: =VLOOKUP(A43,Cat!$C:$D,2,FALSE) -> Materiales de Aseo | D43: 390.41 | E43: -100 | F43: 290.41 | G43: 0 | H43: 0 | I43: 0 | J43: 0 | K43: =+F43-H43 -> 290.41 | L43: =+F43-H43 -> 290.41 | M43: =+I43-J43 -> 0 | N43: =+I43/F43 -> 0
A44: 530807 | B44: BIENES Y SERVICIOS DE CONSUMO | C44: =VLOOKUP(A44,Cat!$C:$D,2,FALSE) -> Materiales de Impresion- Fotografia- Reproduccion y Publicaciones | D44: 3882.93 | E44: 0 | F44: 3882.93 | G44: 0 | H44: 0 | I44: 0 | J44: 0 | K44: =+F44-H44 -> 3882.93 | L44: =+F44-H44 -> 3882.93 | M44: =+I44-J44 -> 0 | N44: =+I44/F44 -> 0
A45: 530813 | B45: BIENES Y SERVICIOS DE CONSUMO | C45: =VLOOKUP(A45,Cat!$C:$D,2,FALSE) -> Repuestos y Accesorios | D45: 3941.05 | E45: 17414.95 | F45: 21356 | G45: 15117 | H45: 15054.5 | I45: 7467.7 | J45: 7331.71 | K45: =+F45-H45 -> 6301.5 | L45: =+F45-H45 -> 6301.5 | M45: =+I45-J45 -> 135.99 | N45: =+I45/F45 -> 0.34967691
A46: 531403 | B46: BIENES Y SERVICIOS DE CONSUMO | C46: =VLOOKUP(A46,Cat!$C:$D,2,FALSE) -> Mobiliario | D46: 33 | E46: -33 | F46: 0 | G46: 0 | H46: 0 | I46: 0 | J46: 0 | K46: =+F46-H46 -> 0 | L46: =+F46-H46 -> 0 | M46: =+I46-J46 -> 0 | N46: 0
A47: 531404 | B47: BIENES Y SERVICIOS DE CONSUMO | C47: =VLOOKUP(A47,Cat!$C:$D,2,FALSE) -> Maquinarias y Equipos | D47: 140 | E47: -140 | F47: 0 | G47: 0 | H47: 0 | I47: 0 | J47: 0 | K47: =+F47-H47 -> 0 | L47: =+F47-H47 -> 0 | M47: =+I47-J47 -> 0 | N47: 0
A48: 570102 | B48: OTROS GASTOS CORRIENTES | C48: =VLOOKUP(A48,Cat!$C:$D,2,FALSE) -> Tasas Generales- Impuestos- Contribuciones- Permisos- Licencias y Patentes | D48: 21516.37 | E48: 7792.95 | F48: 29309.32 | G48: 9808.2 | H48: 9278.83 | I48: 5778.83 | J48: 5778.83 | K48: =+F48-H48 -> 20030.49 | L48: =+F48-H48 -> 20030.49 | M48: =+I48-J48 -> 0 | N48: 0
A49: 570201 | B49: OTROS GASTOS CORRIENTES | C49: =VLOOKUP(A49,Cat!$C:$D,2,FALSE) -> Seguros | D49: 54173.53 | E49: -24511.08 | F49: 29662.45 | G49: 29662.45 | H49: 29662.45 | I49: 29662.45 | J49: 29662.45 | K49: =+F49-H49 -> 0 | L49: =+F49-H49 -> 0 | M49: =+I49-J49 -> 0 | N49: =+I49/F49 -> 1
A50: 570203 | B50: OTROS GASTOS CORRIENTES | C50: =VLOOKUP(A50,Cat!$C:$D,2,FALSE) -> Comisiones Bancarias | D50: 500 | E50: 270 | F50: 770 | G50: 503.54 | H50: 166.24 | I50: 166.24 | J50: 166.24 | K50: =+F50-H50 -> 603.76 | L50: =+F50-H50 -> 603.76 | M50: =+I50-J50 -> 0 | N50: =+I50/F50 -> 0.2158961
...

Sheet Metadatos
A1: Fecha actualizacion de la informacion | B1: 45930
A2: Periodicidad de actualizacion de la informacion | B2: Mensual
A3: Unidad poseedora de la informacion | B3: COORDINACIÓN GENERAL ADMINISTRATIVA FINANCIERA
A4: Persona responsable de la unidad poseedora de la informacion | B4: MGS. ROBERTO EDUARDO VARGAS ZAMBRANO
A5: Correo electronico de la persona responsable de la unidad poseedora de la informacion | B5: rvargas@viviendaydesarrollourbano.gob.ec
A6: Numero telefonico de la persona responsable de la unidad poseedora de la informacion | B6: 023732900 Ext. 9131
A7: Licencia | B7: CC-BY-4.0

Sheet Diccionario
A1: Institucion | B1: EMPRESA PÚBLICA DE VIVIENDA Y DESARROLLO URBANO
A2: Descripcion | B2: 99857428
A3: Nombre del campo | B3: Descripcion de campo
A4: Cuenta | B4: Codigo identificador asignado a la categoria; descripcion o partida presupuestaria
A5: Categoria | B5: Categoria a la que pertenece el elemento presupuestario
A6: Descripcion | B6: Descripcion del elemento presupuestario
A7: Asignado | B7: Monto inicialmente asignado al elemento presupuestario
A8: Modificado | B8: Monto modificado o ajustado posteriormente al elemento presupuestario
A9: Codificado | B9: Monto codificado o asignado especificamente al elemento presupuestario
A10: Monto certificado | B10: Monto certificado o aprobado para el elemento presupuestario
A11: Comprometido | B11: Monto comprometido o reservado para el elemento presupuestario
A12: Devengado | B12: Monto devengado o registrado como gasto efectuado en relacion al elemento presupuestario
A13: Pagado | B13: Monto pagado o desembolsado hasta la fecha en relacion al elemento presupuestario
A14: Saldo por comprometer | B14: Saldo restante por comprometer o reservar para el elemento presupuestario
... A17: Porcentaje de ejecucion | B17: Porcentaje de ejecucion o avance del gasto en relacion al monto total asignado al elemento presupuestario

Sheet Cat
A1: DENOMINACION | B1: LONGITUD | C1: CUENTA | D1: DESCRIPCION | E1: PRECEDENTE
A2: Ingresos | B2: 1 | C2: 1 | D2: INGRESOS CORRIENTES | E2: 0
A3: Ingresos | B3: 2 | C3: 11 | D3: IMPUESTOS | E3: 1
A4: Ingresos | B4: 4 | C4: 1101 | D4: Sobre la Renta Utilidades y Ganancias de Capital | E4: 11
A5: Ingresos | B5: 6 | C5: 110101 | D5: A la Renta Global | E5: 1101
A6: Ingresos | B6: 6 | C6: 110102 | D6: A la Utilidad por la Venta de Predios Urbanos y Plusvalia | E6: 1101
A7: Ingresos | B7: 6 | C7: 110103 | D7: A la Utilidad por la Venta de Predios Rurales | E7: 1101
A8: Ingresos | B8: 6 | C8: 110104 | D8: A los Juegos de Azar | E8: 1101
A9: Ingresos | B9: 6 | C9: 110105 | D9: A la Renta de Empresas Petroleras | E9: 1101
A10: Ingresos | B10: 6 | C10: 110106 | D10: Sobre las Utilidades | E10: 1101
A11: Ingresos | B11: 6 | C11: 110199 | D11: A Otras Rentas Utilidades y Beneficios del Capital | E11: 1101
A12: Ingresos | B12: 4 | C12: 1102 | D12: Sobre la Propiedad | E12: 11
A13: Ingresos | B13: 6 | C13: 110201 | D13: A los Predios Urbanos | E13: 1102
A14: Ingresos | B14: 6 | C14: 110202 | D14: A los Predios Rurales | E14: 1102
... A449: Ingresos | B449: 6 | C449: 190499 | D449: Otros no Especificados | E449: 1904
A450: Ingresos | B450: 1 | C450: 2 | D450: INGRESOS DE CAPITAL | E450: 0
A451: Ingresos | B451: 2 | C451: 24 | D451: VENTA DE ACTIVOS NO FINANCIEROS | E451: 2
A452: Ingresos | B452: 4 | C452: 2401 | D452: Bienes Muebles | E452: 24
A453: Ingresos | B453: 6 | C453: 240103 | D453: Mobiliario | E453: 2401
A454: Ingresos | B454: 6 | C454: 240104 | D454: Maquinarias y Equipos | E454: 2401
A455: Ingresos | B455: 6 | C455: 240105 | D455: Vehiculos | E455: 2401
A456: Ingresos | B456: 6 | C456: 240106 | D456: Herramientas | E456: 2401
A457: Ingresos | B457: 6 | C457: 240107 | D457: Equipos Sistemas y Paquetes Informaticos | E457: 2401
A458: Ingresos | B458: 6 | C458: 240108 | D458: Bienes Artisticos y Culturales | E458: 2401
A459: Ingresos | B459: 6 | C459: 240109 | D459: Libros y Colecciones | E459: 2401
A460: Ingresos | B460: 6 | C460: 240110 | D460: Ganancias por Tenencia de Bienes Muebles | E460: 2401
A461: Ingresos | B461: 4 | C461: 2402 | D461: Bienes Inmuebles | E461: 24
A462: Ingresos | B462: 6 | C462: 240201 | D462: Terrenos | E462: 2402
... A762: Ingresos | B762: 6 | C762: 281301 | D762: Participaciones sobre Ajustes Soberanos a los Contratos de Explotacion Minera | E762: 2813
A763: Ingresos | B763: 1 | C763: 3 | D763: INGRESOS DE FINANCIAMIENTO | E763: 0
A764: Ingresos | B764: 2 | C764: 36 | D764: FINANCIAMIENTO PUBLICO | E764: 3
A765: Ingresos | B765: 4 | C765: 3601 | D765: Colocacion de Titulos Valores | E765: 36
A766: Ingresos | B766: 6 | C766: 360101 | D766: Certificados del Tesoro Nacional | E766: 3601
A767: Ingresos | B767: 6 | C767: 360102 | D767: Bonos del Estado colocados en el Mercado Nacional | E767: 3601
A768: Ingresos | B768: 6 | C768: 360103 | D768: Bonos del Estado colocados en el Mercado Internacional | E768: 3601
A769: Ingresos | B769: 6 | C769: 360198 | D769: Otros Titulos | E769: 3601
A770: Ingresos | B770: 6 | C770: 360199 | D770: Otros Valores | E770: 3601
A771: Ingresos | B771: 4 | C771: 3602 | D771: Financiamiento Publico Interno | E771: 36
A772: Ingresos | B772: 6 | C772: 360201 | D772: Del Sector Publico Financiero | E772: 3602
A773: Ingresos | B773: 6 | C773: 360202 | D773: Del Sector Publico no Financiero | E773: 3602
...
